Workbook

Sheet 결산표
A1: 00지회 결산표
E3: 결 재 | F3: 담당 | G3: 지회장
A7: 수입 | E7: 지출
A8: 계정과목 | B8: 금 액 | C8: 비율 | E8: 세부목 | F8: 금 액 | G8: 비율
A9: 전월이월금 | B9: =일계원장!F3 -> 100000 | C9: 0 | E9: 인건비 | F9: =SUMIF(일계원장!$C$3:$C$120,결산표!E9,일계원장!$H$3:$H$120) -> 0 | G9: =F9/$F$20 -> 0
A10: 교부금 | B10: =SUMIF(일계원장!$C$3:$C$120,결산표!A10,일계원장!$F$3:$F$120) -> 168000 | C10: 0 | E10: 소모품비 | F10: =SUMIF(일계원장!$C$3:$C$120,결산표!E10,일계원장!$H$3:$H$120) -> 0 | G10: =F10/$F$20 -> 0
A11: 기타수입 | B11: =SUMIF(일계원장!$C$3:$C$120,결산표!A11,일계원장!$F$3:$F$120) -> 0 | C11: 0 | E11: 비품구입비 | F11: =SUMIF(일계원장!$C$3:$C$120,결산표!E11,일계원장!$H$3:$H$120) -> 0 | G11: =F11/$F$20 -> 0
A12: 합 계 | B12: =SUM(B9:B11) -> 268000 | C12: =B12/B12 -> 1 | E12: 기타운영비 | F12: =SUMIF(일계원장!$C$3:$C$120,결산표!E12,일계원장!$H$3:$H$120) -> 0 | G12: =F12/$F$20 -> 0
E13: 출장비 | F13: =SUMIF(일계원장!$C$3:$C$120,결산표!E13,일계원장!$H$3:$H$120) -> 0 | G13: =F13/$F$20 -> 0
E14: 연대사업비 | F14: =SUMIF(일계원장!$C$3:$C$120,결산표!E14,일계원장!$H$3:$H$120) -> 0 | G14: =F14/$F$20 -> 0
A15: 구분 | B15: 금액 | E15: 선전사업비 | F15: =SUMIF(일계원장!$C$3:$C$120,결산표!E15,일계원장!$H$3:$H$120) -> 0 | G15: =F15/$F$20 -> 0
A16: 수입 | B16: =B12 -> 268000 | E16: 투쟁사업비 | F16: =SUMIF(일계원장!$C$3:$C$120,결산표!E16,일계원장!$H$3:$H$120) -> 35000 | G16: =F16/$F$20 -> 0.36842105
A17: 지출 | B17: =F20 -> 95000 | E17: 회의비 | F17: =SUMIF(일계원장!$C$3:$C$120,결산표!E17,일계원장!$H$3:$H$120) -> 60000 | G17: =F17/$F$20 -> 0.63157895
A18: 잔액 | B18: =B16-B17 -> 173000 | E18: 교육진행비 | F18: =SUMIF(일계원장!$C$3:$C$120,결산표!E18,일계원장!$H$3:$H$120) -> 0 | G18: =F18/$F$20 -> 0
E19: 조직사업비 | F19: =SUMIF(일계원장!$C$3:$C$120,결산표!E19,일계원장!$H$3:$H$120) -> 0 | G19: =F19/$F$20 -> 0
E20: 총합 | F20: =SUM(F9:F19) -> 95000 | G20: =F20/$F$20 -> 1

Sheet 일계원장
A1: 00지회 수입, 지출 일계원장(예시)
A2: 구분 | B2: 날짜 | C2: 예산과목 | D2: 내역 | E2: 세부내용 | F2: 수입금액 | G2: 수입합계 | H2: 지출금액 | I2: 지출합계 | J2: 잔액 | K2: 비고
A3: 수입 | B3: 45658 | C3: 이월금 | D3: 이월금 | E3: 2025년 회계 잔액 | F3: 100000 | G3: =F3 -> 100000 | H3: 0 | I3: =H3 -> 0 | J3: =G3-I3 -> 100000
A4: 수입 | B4: 45683 | C4: 교부금 | D4: 교부금 | E4: 1월 교부금 | F4: 168000 | G4: =G3+F4 -> 268000 | I4: =I3+H4 -> 0 | J4: =G4-I4 -> 268000
A5: 지출 | B5: 45685 | C5: 회의비 | D5: 회의비 | E5: 지회 1월 운영위회의 식대 (참석자 이름 기재) | F5: 0 | G5: =G4+F5 -> 268000 | H5: 60000 | I5: =I4+H5 -> 60000 | J5: =G5-I5 -> 208000 | K5: 1월-1
A6: 지출 | B6: 45687 | C6: 투쟁사업비 | D6: 투쟁사업비 | E6: 기자회견 현수막 | F6: 0 | G6: =G5+F6 -> 268000 | H6: 35000 | I6: =I5+H6 -> 95000 | J6: =G6-I6 -> 173000 | K6: 1월-2
G7: =G6+F7 -> 268000 | I7: =I6+H7 -> 95000 | J7: =G7-I7 -> 173000
G8: =G7+F8 -> 268000 | I8: =I7+H8 -> 95000 | J8: =G8-I8 -> 173000
G9: =G8+F9 -> 268000 | I9: =I8+H9 -> 95000 | J9: =G9-I9 -> 173000
G10: =G9+F10 -> 268000 | I10: =I9+H10 -> 95000 | J10: =G10-I10 -> 173000
G11: =G10+F11 -> 268000 | I11: =I10+H11 -> 95000 | J11: =G11-I11 -> 173000
G12: =G11+F12 -> 268000 | I12: =I11+H12 -> 95000 | J12: =G12-I12 -> 173000
G13: =G12+F13 -> 268000 | I13: =I12+H13 -> 95000 | J13: =G13-I13 -> 173000
G14: =G13+F14 -> 268000 | I14: =I13+H14 -> 95000 | J14: =G14-I14 -> 173000
G15: =G14+F15 -> 268000 | I15: =I14+H15 -> 95000 | J15: =G15-I15 -> 173000
G16: =G15+F16 -> 268000 | I16: =I15+H16 -> 95000 | J16: =G16-I16 -> 173000
G17: =G16+F17 -> 268000 | I17: =I16+H17 -> 95000 | J17: =G17-I17 -> 173000
G18: =G17+F18 -> 268000 | I18: =I17+H18 -> 95000 | J18: =G18-I18 -> 173000
... G76: =G75+F76 -> 268000 | I76: =I75+H76 -> 95000 | J76: =G76-I76 -> 173000
A77: 총합 | G77: =G76+F77 -> 268000 | I77: =I76+H77 -> 95000 | J77: =G77-I77 -> 173000
A80: 위 서식에 입력만 하면 자동 결산됨
A81: 수입, 지출 결의서 서식 안해도 됨, 대신 일계원장 비고란에 해당월과 일련번호를 매길 것, 증빙영수증을 붙인 종이위에 그 일련번호 기재해서 구분할 수 있게 정리바람
A82: 월 지출내역이 많지 않은 경우 쭉 이어서 1년 일계원장으로 작성하면 됨
